BEGIN:VCALENDAR
VERSION:2.0
PRODID:-//Night Life Team - ECPv6.15.20//NONSGML v1.0//EN
CALSCALE:GREGORIAN
METHOD:PUBLISH
X-WR-CALNAME:Night Life Team
X-ORIGINAL-URL:https://night-life-team.de
X-WR-CALDESC:Veranstaltungen für Night Life Team
REFRESH-INTERVAL;VALUE=DURATION:PT1H
X-Robots-Tag:noindex
X-PUBLISHED-TTL:PT1H
BEGIN:VTIMEZONE
TZID:Europe/Berlin
BEGIN:DAYLIGHT
TZOFFSETFROM:+0100
TZOFFSETTO:+0200
TZNAME:CEST
DTSTART:20250330T010000
END:DAYLIGHT
BEGIN:STANDARD
TZOFFSETFROM:+0200
TZOFFSETTO:+0100
TZNAME:CET
DTSTART:20251026T010000
END:STANDARD
BEGIN:DAYLIGHT
TZOFFSETFROM:+0100
TZOFFSETTO:+0200
TZNAME:CEST
DTSTART:20260329T010000
END:DAYLIGHT
BEGIN:STANDARD
TZOFFSETFROM:+0200
TZOFFSETTO:+0100
TZNAME:CET
DTSTART:20261025T010000
END:STANDARD
BEGIN:DAYLIGHT
TZOFFSETFROM:+0100
TZOFFSETTO:+0200
TZNAME:CEST
DTSTART:20270328T010000
END:DAYLIGHT
BEGIN:STANDARD
TZOFFSETFROM:+0200
TZOFFSETTO:+0100
TZNAME:CET
DTSTART:20271031T010000
END:STANDARD
END:VTIMEZONE
BEGIN:VEVENT
DTSTART;VALUE=DATE:20260425
DTEND;VALUE=DATE:20260426
DTSTAMP:20260419T160551
CREATED:20260303T203058Z
LAST-MODIFIED:20260303T203058Z
UID:1035-1777075200-1777161599@night-life-team.de
SUMMARY:75 Jahre Landjugend Harpstedt; Jubiläumsball\, Koems Saal Harpstedt
DESCRIPTION:
URL:https://night-life-team.de/event/75-jahre-landjugend-harpstedt-jubilaeumsball-koems-saal-harpstedt/
END:VEVENT
BEGIN:VEVENT
DTSTART;VALUE=DATE:20260430
DTEND;VALUE=DATE:20260501
DTSTAMP:20260419T160551
CREATED:20260303T202910Z
LAST-MODIFIED:20260303T202910Z
UID:1031-1777507200-1777593599@night-life-team.de
SUMMARY:Tanz in den Mai\, DGH Klein Köhren
DESCRIPTION:
URL:https://night-life-team.de/event/tanz-in-den-mai-dgh-klein-koehren/
END:VEVENT
BEGIN:VEVENT
DTSTART;VALUE=DATE:20260530
DTEND;VALUE=DATE:20260531
DTSTAMP:20260419T160551
CREATED:20260303T200035Z
LAST-MODIFIED:20260303T200035Z
UID:1019-1780099200-1780185599@night-life-team.de
SUMMARY:Spargelfahrt\, Backenköhler
DESCRIPTION:
URL:https://night-life-team.de/event/spargelfahrt-backenkoehler/
LOCATION:Backenköhler\, Stenum-Ganderkesee\, Dorfring 40\, Ganderkesee\, 27777
END:VEVENT
BEGIN:VEVENT
DTSTART;VALUE=DATE:20260530
DTEND;VALUE=DATE:20260531
DTSTAMP:20260419T160551
CREATED:20260303T202700Z
LAST-MODIFIED:20260303T202700Z
UID:1029-1780099200-1780185599@night-life-team.de
SUMMARY:Schützenfest Groß Ippener
DESCRIPTION:
URL:https://night-life-team.de/event/schuetzenfest-gross-ippener-2/
LOCATION:Schützenplatz\, Dorfstraße 20\, Groß Ippener\, 27243
END:VEVENT
BEGIN:VEVENT
DTSTART;VALUE=DATE:20260822
DTEND;VALUE=DATE:20260823
DTSTAMP:20260419T160551
CREATED:20260303T203150Z
LAST-MODIFIED:20260303T203150Z
UID:1037-1787356800-1787443199@night-life-team.de
SUMMARY:Landtage Nord; Wüstingen
DESCRIPTION:
URL:https://night-life-team.de/event/landtage-nord-wuestingen/
END:VEVENT
BEGIN:VEVENT
DTSTART;VALUE=DATE:20261010
DTEND;VALUE=DATE:20261011
DTSTAMP:20260419T160551
CREATED:20260303T201146Z
LAST-MODIFIED:20260303T202541Z
UID:1022-1791590400-1791676799@night-life-team.de
SUMMARY:Oktoberfest\, Gut Altona Wildeshausen
DESCRIPTION:
URL:https://night-life-team.de/event/oktoberfest-gut-altona/
LOCATION:Gut Altona\, Wildeshausen
END:VEVENT
BEGIN:VEVENT
DTSTART;VALUE=DATE:20261017
DTEND;VALUE=DATE:20261018
DTSTAMP:20260419T160551
CREATED:20260303T201305Z
LAST-MODIFIED:20260303T202424Z
UID:1025-1792195200-1792281599@night-life-team.de
SUMMARY:Oktoberfest\, Koems Saal Harpstedt
DESCRIPTION:
URL:https://night-life-team.de/event/oktoberfest-koems-saal-harpstedt/
LOCATION:Koems Saal\, Wildeshauser Str. 20\, Harpstedt\, 27243
END:VEVENT
END:VCALENDAR